BEGIN:VCALENDAR
VERSION:2.0
PRODID:-//株式会社ワニマガジン社 - ECPv6.15.20//NONSGML v1.0//EN
CALSCALE:GREGORIAN
METHOD:PUBLISH
X-WR-CALNAME:株式会社ワニマガジン社
X-ORIGINAL-URL:https://wanimagazine.com
X-WR-CALDESC:株式会社ワニマガジン社 のイベント
REFRESH-INTERVAL;VALUE=DURATION:PT1H
X-Robots-Tag:noindex
X-PUBLISHED-TTL:PT1H
BEGIN:VTIMEZONE
TZID:Asia/Tokyo
BEGIN:STANDARD
TZOFFSETFROM:+0900
TZOFFSETTO:+0900
TZNAME:JST
DTSTART:20230101T000000
END:STANDARD
END:VTIMEZONE
BEGIN:VEVENT
DTSTART;VALUE=DATE:20240717
DTEND;VALUE=DATE:20240718
DTSTAMP:20260421T190400
CREATED:20240422T083611Z
LAST-MODIFIED:20240604T070130Z
UID:736-1721174400-1721260799@wanimagazine.com
SUMMARY:奉仕委員のおしごと・ぷらす/胃之上奇嘉郎
DESCRIPTION:紙版
URL:https://wanimagazine.com/calendar/9784862699862/
CATEGORIES:紙書籍
END:VEVENT
BEGIN:VEVENT
DTSTART;VALUE=DATE:20240717
DTEND;VALUE=DATE:20240718
DTSTAMP:20260421T190400
CREATED:20240605T065115Z
LAST-MODIFIED:20240605T065115Z
UID:851-1721174400-1721260799@wanimagazine.com
SUMMARY:COMIC快楽天ビースト2024年08月号
DESCRIPTION:
URL:https://wanimagazine.com/calendar/beast_240717/
CATEGORIES:電子書籍
END:VEVENT
BEGIN:VEVENT
DTSTART;VALUE=DATE:20240717
DTEND;VALUE=DATE:20240718
DTSTAMP:20260421T190400
CREATED:20240621T063831Z
LAST-MODIFIED:20240621T063900Z
UID:857-1721174400-1721260799@wanimagazine.com
SUMMARY:快楽天ビースト2024年8月号
DESCRIPTION:
URL:https://wanimagazine.com/calendar/202408_beast/
CATEGORIES:電子書籍
END:VEVENT
END:VCALENDAR