BEGIN:VCALENDAR
VERSION:2.0
PRODID:-//株式会社ワニマガジン社 - ECPv6.15.20//NONSGML v1.0//EN
CALSCALE:GREGORIAN
METHOD:PUBLISH
X-WR-CALNAME:株式会社ワニマガジン社
X-ORIGINAL-URL:https://wanimagazine.com
X-WR-CALDESC:株式会社ワニマガジン社 のイベント
REFRESH-INTERVAL;VALUE=DURATION:PT1H
X-Robots-Tag:noindex
X-PUBLISHED-TTL:PT1H
BEGIN:VTIMEZONE
TZID:Asia/Tokyo
BEGIN:STANDARD
TZOFFSETFROM:+0900
TZOFFSETTO:+0900
TZNAME:JST
DTSTART:20230101T000000
END:STANDARD
END:VTIMEZONE
BEGIN:VEVENT
DTSTART;VALUE=DATE:20240628
DTEND;VALUE=DATE:20240629
DTSTAMP:20260421T205513
CREATED:20240422T083426Z
LAST-MODIFIED:20240422T083518Z
UID:732-1719532800-1719619199@wanimagazine.com
SUMMARY:愛されエッチな異世界ファンタジーはお好きですか？/35まち
DESCRIPTION:紙版
URL:https://wanimagazine.com/calendar/9784862699855/
CATEGORIES:紙書籍
END:VEVENT
END:VCALENDAR