BEGIN:VCALENDAR
VERSION:2.0
PRODID:-//株式会社ワニマガジン社 - ECPv6.15.20//NONSGML v1.0//EN
CALSCALE:GREGORIAN
METHOD:PUBLISH
X-WR-CALNAME:株式会社ワニマガジン社
X-ORIGINAL-URL:https://wanimagazine.com
X-WR-CALDESC:株式会社ワニマガジン社 のイベント
REFRESH-INTERVAL;VALUE=DURATION:PT1H
X-Robots-Tag:noindex
X-PUBLISHED-TTL:PT1H
BEGIN:VTIMEZONE
TZID:Asia/Tokyo
BEGIN:STANDARD
TZOFFSETFROM:+0900
TZOFFSETTO:+0900
TZNAME:JST
DTSTART:20230101T000000
END:STANDARD
END:VTIMEZONE
BEGIN:VEVENT
DTSTART;VALUE=DATE:20240531
DTEND;VALUE=DATE:20240601
DTSTAMP:20260421T205545
CREATED:20240314T083532Z
LAST-MODIFIED:20240528T072606Z
UID:545-1717113600-1717199999@wanimagazine.com
SUMMARY:隣人がち〇ぽ借りに来る話/ぽちたろ
DESCRIPTION:紙版
URL:https://wanimagazine.com/calendar/9784862699817/
CATEGORIES:紙書籍
END:VEVENT
BEGIN:VEVENT
DTSTART;VALUE=DATE:20240531
DTEND;VALUE=DATE:20240601
DTSTAMP:20260421T205545
CREATED:20240314T084232Z
LAST-MODIFIED:20240530T065002Z
UID:548-1717113600-1717199999@wanimagazine.com
SUMMARY:舐めプ女わからせマニュアル/hal
DESCRIPTION:紙版\n詳細はこちらから
URL:https://wanimagazine.com/calendar/9784862699800/
CATEGORIES:紙書籍
END:VEVENT
END:VCALENDAR