BEGIN:VCALENDAR
VERSION:2.0
PRODID:-//株式会社ワニマガジン社 - ECPv6.15.20//NONSGML v1.0//EN
CALSCALE:GREGORIAN
METHOD:PUBLISH
X-ORIGINAL-URL:https://wanimagazine.com
X-WR-CALDESC:株式会社ワニマガジン社 のイベント
REFRESH-INTERVAL;VALUE=DURATION:PT1H
X-Robots-Tag:noindex
X-PUBLISHED-TTL:PT1H
BEGIN:VTIMEZONE
TZID:Asia/Tokyo
BEGIN:STANDARD
TZOFFSETFROM:+0900
TZOFFSETTO:+0900
TZNAME:JST
DTSTART:20230101T000000
END:STANDARD
END:VTIMEZONE
BEGIN:VEVENT
DTSTART;VALUE=DATE:20240501
DTEND;VALUE=DATE:20240502
DTSTAMP:20260422T024505
CREATED:20240412T052813Z
LAST-MODIFIED:20240501T093637Z
UID:694-1714521600-1714607999@wanimagazine.com
SUMMARY:飴色プロローグ/木瀬樹
DESCRIPTION:デジタル版
URL:https://wanimagazine.com/calendar/kise_digital/
CATEGORIES:電子書籍
END:VEVENT
END:VCALENDAR