BEGIN:VCALENDAR
VERSION:2.0
PRODID:-//株式会社ワニマガジン社 - ECPv6.15.20//NONSGML v1.0//EN
CALSCALE:GREGORIAN
METHOD:PUBLISH
X-WR-CALNAME:株式会社ワニマガジン社
X-ORIGINAL-URL:https://wanimagazine.com
X-WR-CALDESC:株式会社ワニマガジン社 のイベント
REFRESH-INTERVAL;VALUE=DURATION:PT1H
X-Robots-Tag:noindex
X-PUBLISHED-TTL:PT1H
BEGIN:VTIMEZONE
TZID:Asia/Tokyo
BEGIN:STANDARD
TZOFFSETFROM:+0900
TZOFFSETTO:+0900
TZNAME:JST
DTSTART:20230101T000000
END:STANDARD
END:VTIMEZONE
BEGIN:VEVENT
DTSTART;VALUE=DATE:20240311
DTEND;VALUE=DATE:20240312
DTSTAMP:20260422T024355
CREATED:20240305T070757Z
LAST-MODIFIED:20240308T090204Z
UID:451-1710115200-1710201599@wanimagazine.com
SUMMARY:COMIC ゼロス#109
DESCRIPTION:デジタル版
URL:https://wanimagazine.com/calendar/20240311_xeros/
CATEGORIES:電子書籍
END:VEVENT
END:VCALENDAR