BEGIN:VCALENDAR
VERSION:2.0
PRODID:-//株式会社ワニマガジン社 - ECPv6.15.20//NONSGML v1.0//EN
CALSCALE:GREGORIAN
METHOD:PUBLISH
X-ORIGINAL-URL:https://wanimagazine.com
X-WR-CALDESC:株式会社ワニマガジン社 のイベント
REFRESH-INTERVAL;VALUE=DURATION:PT1H
X-Robots-Tag:noindex
X-PUBLISHED-TTL:PT1H
BEGIN:VTIMEZONE
TZID:Asia/Tokyo
BEGIN:STANDARD
TZOFFSETFROM:+0900
TZOFFSETTO:+0900
TZNAME:JST
DTSTART:20230101T000000
END:STANDARD
END:VTIMEZONE
BEGIN:VEVENT
DTSTART;VALUE=DATE:20240408
DTEND;VALUE=DATE:20240409
DTSTAMP:20260422T042210
CREATED:20240308T070417Z
LAST-MODIFIED:20240313T035057Z
UID:489-1712534400-1712620799@wanimagazine.com
SUMMARY:パンストーリーズ/タチロク
DESCRIPTION:FANZA独占
URL:https://wanimagazine.com/calendar/20240408_tashiroku/
CATEGORIES:電子書籍
END:VEVENT
BEGIN:VEVENT
DTSTART;VALUE=DATE:20240411
DTEND;VALUE=DATE:20240412
DTSTAMP:20260422T042210
CREATED:20240308T070539Z
LAST-MODIFIED:20240501T022355Z
UID:491-1712793600-1712879999@wanimagazine.com
SUMMARY:COMIC ゼロス＃110
DESCRIPTION:デジタルのみ\n雑誌 \n\nすいーと＆すぱいしー/森島コン\n異世界召喚されたので鍛え上げた肉体を駆使してスケベしようと思う 第3射/あきのそら\nせのびごほうし/へぅろー\n嫁妹と、いろいろ/とく\n気持ちいコトには逆らえない #2/さ抜き\nだけどダラダラダラ/変熊\n尻で女を見分ける俺は女上司の弱みを握る/えこひいき\n7日後に愛し合う僕ら/じゅらい\n熱愛、ほどほどに/ななもと
URL:https://wanimagazine.com/calendar/20240411_xeros/
CATEGORIES:電子書籍
END:VEVENT
BEGIN:VEVENT
DTSTART;VALUE=DATE:20240412
DTEND;VALUE=DATE:20240413
DTSTAMP:20260422T042210
CREATED:20240308T081752Z
LAST-MODIFIED:20240412T080941Z
UID:495-1712880000-1712966399@wanimagazine.com
SUMMARY:COMIC快楽天ビースト2024年5月号
DESCRIPTION:紙版https://www.wani.com/product/13835/
URL:https://wanimagazine.com/calendar/20240413_beast/
CATEGORIES:紙書籍
END:VEVENT
BEGIN:VEVENT
DTSTART;VALUE=DATE:20240415
DTEND;VALUE=DATE:20240416
DTSTAMP:20260422T042210
CREATED:20240314T081240Z
LAST-MODIFIED:20240314T081418Z
UID:534-1713139200-1713225599@wanimagazine.com
SUMMARY:まねかれあそばれ/武将武
DESCRIPTION:紙版 \n詳細はこちらから
URL:https://wanimagazine.com/calendar/9784862699749/
CATEGORIES:紙書籍
END:VEVENT
BEGIN:VEVENT
DTSTART;VALUE=DATE:20240415
DTEND;VALUE=DATE:20240416
DTSTAMP:20260422T042210
CREATED:20240308T081659Z
LAST-MODIFIED:20240412T081156Z
UID:493-1713139200-1713225599@wanimagazine.com
SUMMARY:曲尺手さんと大縄くん ～むっつりドスケベな彼女と俺～/Ash横島
DESCRIPTION:通常版 \n【デジタル特装版】 \n 
URL:https://wanimagazine.com/calendar/20240415_ash/
CATEGORIES:電子書籍
END:VEVENT
BEGIN:VEVENT
DTSTART;VALUE=DATE:20240415
DTEND;VALUE=DATE:20240416
DTSTAMP:20260422T042210
CREATED:20240314T075015Z
LAST-MODIFIED:20240423T021625Z
UID:532-1713139200-1713225599@wanimagazine.com
SUMMARY:教え子としか付き合わない/太平さんせっと
DESCRIPTION:紙版\nお買い求めはこちらから
URL:https://wanimagazine.com/calendar/9784862699756/
CATEGORIES:紙書籍
END:VEVENT
BEGIN:VEVENT
DTSTART;VALUE=DATE:20240417
DTEND;VALUE=DATE:20240418
DTSTAMP:20260422T042210
CREATED:20240314T033411Z
LAST-MODIFIED:20240422T072423Z
UID:522-1713312000-1713398399@wanimagazine.com
SUMMARY:COMIC快楽天ビースト2024年5月号
DESCRIPTION:デジタル版は毎月17日発売です。\n雑誌\n\n恋しやコンコン【フルカラー版】/ぴょん吉\n恋しやコンコンあふた～【フルカラー版】/ぴょん吉\nせかんどすてっぷ/もず\nつづらおり/ベコ太郎\nコンプレックス act.2 彼女の場合。/長頼\nタイムパフォーマンスセックス/なごやか次郎\n食べちゃうぞ/しらないひとし\nオーバーライト/甘皮ぐみ\n奥さんを開発しよう! /小亀ふつ\n月が君に寄り添うとき/瑞枝いいる\nオアシススポット/タコヤキロック \n※デジタル版のみ\n◇つぎのひ【フルカラー版】/ぴょん吉
URL:https://wanimagazine.com/calendar/202405_b_0417/
CATEGORIES:電子書籍
END:VEVENT
BEGIN:VEVENT
DTSTART;VALUE=DATE:20240418
DTEND;VALUE=DATE:20240419
DTSTAMP:20260422T042210
CREATED:20240313T035600Z
LAST-MODIFIED:20240321T061349Z
UID:510-1713398400-1713484799@wanimagazine.com
SUMMARY:貴方の専属ソープ嬢/松河
DESCRIPTION:デジタル版
URL:https://wanimagazine.com/calendar/20240418/
CATEGORIES:電子書籍
END:VEVENT
BEGIN:VEVENT
DTSTART;VALUE=DATE:20240424
DTEND;VALUE=DATE:20240425
DTSTAMP:20260422T042210
CREATED:20240314T060125Z
LAST-MODIFIED:20240314T060349Z
UID:526-1713916800-1714003199@wanimagazine.com
SUMMARY:COMIC失楽天2024年5月号
DESCRIPTION:デジタル版 \n毎月24 日配信です。
URL:https://wanimagazine.com/calendar/20240424_s/
CATEGORIES:電子書籍
END:VEVENT
BEGIN:VEVENT
DTSTART;VALUE=DATE:20240425
DTEND;VALUE=DATE:20240426
DTSTAMP:20260422T042210
CREATED:20240314T060226Z
LAST-MODIFIED:20240314T060307Z
UID:528-1714003200-1714089599@wanimagazine.com
SUMMARY:絶対ダメなの！/こやま滋
DESCRIPTION:FANZA独占
URL:https://wanimagazine.com/calendar/20240425_koyama/
CATEGORIES:電子書籍
END:VEVENT
BEGIN:VEVENT
DTSTART;VALUE=DATE:20240426
DTEND;VALUE=DATE:20240427
DTSTAMP:20260422T042210
CREATED:20240412T053129Z
LAST-MODIFIED:20240412T053241Z
UID:697-1714089600-1714175999@wanimagazine.com
SUMMARY:COMIC快楽天2024年6月号
DESCRIPTION:紙版
URL:https://wanimagazine.com/calendar/4910138770644/
CATEGORIES:紙書籍
END:VEVENT
BEGIN:VEVENT
DTSTART;VALUE=DATE:20240430
DTEND;VALUE=DATE:20240501
DTSTAMP:20260422T042210
CREATED:20240314T082826Z
LAST-MODIFIED:20240314T082826Z
UID:537-1714435200-1714521599@wanimagazine.com
SUMMARY:マン感全席/おりひか
DESCRIPTION:紙版 \n詳細はこちらから
URL:https://wanimagazine.com/calendar/9784862699763/
CATEGORIES:紙書籍
END:VEVENT
BEGIN:VEVENT
DTSTART;VALUE=DATE:20240430
DTEND;VALUE=DATE:20240501
DTSTAMP:20260422T042210
CREATED:20240314T083107Z
LAST-MODIFIED:20240314T083107Z
UID:539-1714435200-1714521599@wanimagazine.com
SUMMARY:あまいろ♡あそーと/雛原えみ
DESCRIPTION:紙版 \n詳細はこちらから
URL:https://wanimagazine.com/calendar/9784862699770/
CATEGORIES:紙書籍
END:VEVENT
BEGIN:VEVENT
DTSTART;VALUE=DATE:20240501
DTEND;VALUE=DATE:20240502
DTSTAMP:20260422T042210
CREATED:20240412T052813Z
LAST-MODIFIED:20240501T093637Z
UID:694-1714521600-1714607999@wanimagazine.com
SUMMARY:飴色プロローグ/木瀬樹
DESCRIPTION:デジタル版
URL:https://wanimagazine.com/calendar/kise_digital/
CATEGORIES:電子書籍
END:VEVENT
BEGIN:VEVENT
DTSTART;VALUE=DATE:20240505
DTEND;VALUE=DATE:20240506
DTSTAMP:20260422T042210
CREATED:20240502T050540Z
LAST-MODIFIED:20240502T050610Z
UID:764-1714867200-1714953599@wanimagazine.com
SUMMARY:COMIC快楽天2024年6月号
DESCRIPTION:デジタル版 \n\nカリユグ/YUG\nとなりですよ!/もじゃりん\n星乃エリはギリギリ/雲呑めお\nつま先は夕景/背中が尻\nカラダリサーチ/層積\nナイショのお勉強/日吉ハナ\n絶滅危機回避ファイルフラワーテールの場合/エロ井ロエ\n297日/平丸あきら\n11月22日/西沢みずき\n翻弄! サイキっくす/ゆりしましろ\nカノジョにおねがい!/おおおおありくい\nテニサーの姫宮さん/吉田Killy\nエロ因習村から上京してきました!/アサオミ志群\n中指千本/夢叶羽どどどちゃん\nモモ色鬼退治/アシオミマサト\nfuturegraph/村田蓮爾
URL:https://wanimagazine.com/calendar/kairakuten2406/
END:VEVENT
BEGIN:VEVENT
DTSTART;VALUE=DATE:20240509
DTEND;VALUE=DATE:20240510
DTSTAMP:20260422T042210
CREATED:20240423T092008Z
LAST-MODIFIED:20240423T092417Z
UID:750-1715212800-1715299199@wanimagazine.com
SUMMARY:堕罪/監獄銘菓
DESCRIPTION:デジタル版
URL:https://wanimagazine.com/calendar/20240509_d/
CATEGORIES:電子書籍
END:VEVENT
BEGIN:VEVENT
DTSTART;VALUE=DATE:20240511
DTEND;VALUE=DATE:20240512
DTSTAMP:20260422T042210
CREATED:20240502T052405Z
LAST-MODIFIED:20240510T064526Z
UID:767-1715385600-1715471999@wanimagazine.com
SUMMARY:COMICゼロス#111
DESCRIPTION:毎月11日配信\n\nHisasi \n\n汽水域の二匹は/小野未練\n彼女のお仕事着/治屋武しでん\n君を観ていた/おそまつ\n世にも気持ちいいマジックショー/しっとりボウズ\nTKO -てくにかる のっくあうと-/ぐれます\nこんなの台本に書いてない！/鳥居ヨシツナ\n不器用な恩返し/ツノニガウ\nどうせ死ぬなら/タナカラ
URL:https://wanimagazine.com/calendar/comicxeros_111/
CATEGORIES:電子書籍
END:VEVENT
BEGIN:VEVENT
DTSTART;VALUE=DATE:20240514
DTEND;VALUE=DATE:20240515
DTSTAMP:20260422T042210
CREATED:20240510T064830Z
LAST-MODIFIED:20240510T064830Z
UID:772-1715644800-1715731199@wanimagazine.com
SUMMARY:COMIC快楽天ビースト2024年6月号
DESCRIPTION:紙版
URL:https://wanimagazine.com/calendar/4910138350648/
CATEGORIES:紙書籍
END:VEVENT
BEGIN:VEVENT
DTSTART;VALUE=DATE:20240515
DTEND;VALUE=DATE:20240516
DTSTAMP:20260422T042210
CREATED:20240314T083228Z
LAST-MODIFIED:20240321T074014Z
UID:541-1715731200-1715817599@wanimagazine.com
SUMMARY:臨床学園/姫野こもも
DESCRIPTION:紙版 \n詳細はこちらから
URL:https://wanimagazine.com/calendar/9784862699787/
CATEGORIES:紙書籍
END:VEVENT
BEGIN:VEVENT
DTSTART;VALUE=DATE:20240516
DTEND;VALUE=DATE:20240517
DTSTAMP:20260422T042210
CREATED:20240423T092112Z
LAST-MODIFIED:20240501T022726Z
UID:752-1715817600-1715903999@wanimagazine.com
SUMMARY:まねかれあそばれ/武将武
DESCRIPTION:FANZA独占
URL:https://wanimagazine.com/calendar/2024_0516d/
CATEGORIES:電子書籍
END:VEVENT
BEGIN:VEVENT
DTSTART;VALUE=DATE:20240517
DTEND;VALUE=DATE:20240518
DTSTAMP:20260422T042210
CREATED:20240510T073942Z
LAST-MODIFIED:20240510T090017Z
UID:774-1715904000-1715990399@wanimagazine.com
SUMMARY:COMIC快楽天ビースト2024年6月号
DESCRIPTION:デジタル版
URL:https://wanimagazine.com/calendar/202406_beast/
CATEGORIES:電子書籍
END:VEVENT
BEGIN:VEVENT
DTSTART;VALUE=DATE:20240523
DTEND;VALUE=DATE:20240524
DTSTAMP:20260422T042210
CREATED:20240423T092322Z
LAST-MODIFIED:20240423T092448Z
UID:754-1716422400-1716508799@wanimagazine.com
SUMMARY:教え子としか付き合わない/太平さんせっと
DESCRIPTION:FANZA独占
URL:https://wanimagazine.com/calendar/2024_0523d/
CATEGORIES:電子書籍
END:VEVENT
BEGIN:VEVENT
DTSTART;VALUE=DATE:20240524
DTEND;VALUE=DATE:20240525
DTSTAMP:20260422T042210
CREATED:20240520T035553Z
LAST-MODIFIED:20240520T035553Z
UID:778-1716508800-1716595199@wanimagazine.com
SUMMARY:COMIC失楽天6月号
DESCRIPTION:毎月24日配信
URL:https://wanimagazine.com/calendar/shiturakuten_2406/
CATEGORIES:電子書籍
END:VEVENT
BEGIN:VEVENT
DTSTART;VALUE=DATE:20240529
DTEND;VALUE=DATE:20240530
DTSTAMP:20260422T042210
CREATED:20240520T052306Z
LAST-MODIFIED:20240520T052306Z
UID:782-1716940800-1717027199@wanimagazine.com
SUMMARY:COMIC快楽天2024年7月号
DESCRIPTION:
URL:https://wanimagazine.com/calendar/4910138770743/
CATEGORIES:紙書籍
END:VEVENT
BEGIN:VEVENT
DTSTART;VALUE=DATE:20240530
DTEND;VALUE=DATE:20240531
DTSTAMP:20260422T042210
CREATED:20240314T083357Z
LAST-MODIFIED:20240501T022134Z
UID:543-1717027200-1717113599@wanimagazine.com
SUMMARY:家庭内変愛/皐月芋網
DESCRIPTION:紙版 \n詳細はこちらから
URL:https://wanimagazine.com/calendar/9784862699794/
CATEGORIES:紙書籍
END:VEVENT
BEGIN:VEVENT
DTSTART;VALUE=DATE:20240531
DTEND;VALUE=DATE:20240601
DTSTAMP:20260422T042210
CREATED:20240314T083532Z
LAST-MODIFIED:20240528T072606Z
UID:545-1717113600-1717199999@wanimagazine.com
SUMMARY:隣人がち〇ぽ借りに来る話/ぽちたろ
DESCRIPTION:紙版
URL:https://wanimagazine.com/calendar/9784862699817/
CATEGORIES:紙書籍
END:VEVENT
BEGIN:VEVENT
DTSTART;VALUE=DATE:20240531
DTEND;VALUE=DATE:20240601
DTSTAMP:20260422T042210
CREATED:20240314T084232Z
LAST-MODIFIED:20240530T065002Z
UID:548-1717113600-1717199999@wanimagazine.com
SUMMARY:舐めプ女わからせマニュアル/hal
DESCRIPTION:紙版 \n詳細はこちらから
URL:https://wanimagazine.com/calendar/9784862699800/
CATEGORIES:紙書籍
END:VEVENT
BEGIN:VEVENT
DTSTART;VALUE=DATE:20240605
DTEND;VALUE=DATE:20240606
DTSTAMP:20260422T042210
CREATED:20240412T060311Z
LAST-MODIFIED:20240604T065607Z
UID:699-1717545600-1717631999@wanimagazine.com
SUMMARY:COMIC快楽天2024年7月号
DESCRIPTION:表紙＆巻頭はHamaoの描く、感度抜群!! 乳首とろけるオトナ交尾♪\nじっくり焦らされるのが気持ちいい……!?\nNGなしの赤裸々ガールズトーク!! \n＜表紙作家＞\nHamao \n＜収録作品＞\nカリユグ/YUG\nTomorrow never knows/Hamao\n最高のセックスのつくり方/桃雲\nお静かにお願いします/オクモト悠太\n20:30/スミヤ\nTouch Me!!/柚十 扇\nどきどき相性checking！/どえむたん\nあんあんあんま/いつつせ\n花咲かムスメ/mogg\nラブポーションNo.A/雛原えみ\n調子コかせてリオ先輩/ヤギコム\n手紙/いだ天ふにすけ\nStay with you/さくま司\n路地裏の占い師さん/梅田ノーチラス\nシングル×シングル/トウ\nfuturegraph/村田蓮爾
URL:https://wanimagazine.com/calendar/2024_k_0605/
CATEGORIES:電子書籍
END:VEVENT
BEGIN:VEVENT
DTSTART;TZID=Asia/Tokyo:20240605T080000
DTEND;TZID=Asia/Tokyo:20240605T170000
DTSTAMP:20260422T042210
CREATED:20240605T062706Z
LAST-MODIFIED:20240605T062706Z
UID:837-1717574400-1717606800@wanimagazine.com
SUMMARY:異世快楽天SELECTION 2024 SUMMER
DESCRIPTION:
URL:https://wanimagazine.com/calendar/isekai_2024summer/
CATEGORIES:電子書籍
END:VEVENT
BEGIN:VEVENT
DTSTART;VALUE=DATE:20240607
DTEND;VALUE=DATE:20240608
DTSTAMP:20260422T042210
CREATED:20240604T070255Z
LAST-MODIFIED:20240604T070255Z
UID:817-1717718400-1717804799@wanimagazine.com
SUMMARY:マン感全席/おりひか
DESCRIPTION:FANZA独占
URL:https://wanimagazine.com/calendar/orihika_1st/
CATEGORIES:電子書籍
END:VEVENT
END:VCALENDAR