BEGIN:VCALENDAR
VERSION:2.0
PRODID:-//株式会社ワニマガジン社 - ECPv6.15.20//NONSGML v1.0//EN
CALSCALE:GREGORIAN
METHOD:PUBLISH
X-WR-CALNAME:株式会社ワニマガジン社
X-ORIGINAL-URL:https://wanimagazine.com
X-WR-CALDESC:株式会社ワニマガジン社 のイベント
REFRESH-INTERVAL;VALUE=DURATION:PT1H
X-Robots-Tag:noindex
X-PUBLISHED-TTL:PT1H
BEGIN:VTIMEZONE
TZID:Asia/Tokyo
BEGIN:STANDARD
TZOFFSETFROM:+0900
TZOFFSETTO:+0900
TZNAME:JST
DTSTART:20230101T000000
END:STANDARD
END:VTIMEZONE
BEGIN:VEVENT
DTSTART;VALUE=DATE:20240418
DTEND;VALUE=DATE:20240419
DTSTAMP:20260422T080545
CREATED:20240313T035600Z
LAST-MODIFIED:20240321T061349Z
UID:510-1713398400-1713484799@wanimagazine.com
SUMMARY:貴方の専属ソープ嬢/松河
DESCRIPTION:デジタル版
URL:https://wanimagazine.com/calendar/20240418/
CATEGORIES:電子書籍
END:VEVENT
BEGIN:VEVENT
DTSTART;VALUE=DATE:20240417
DTEND;VALUE=DATE:20240418
DTSTAMP:20260422T080545
CREATED:20240314T033411Z
LAST-MODIFIED:20240422T072423Z
UID:522-1713312000-1713398399@wanimagazine.com
SUMMARY:COMIC快楽天ビースト2024年5月号
DESCRIPTION:デジタル版は毎月17日発売です。\n雑誌\n\n恋しやコンコン【フルカラー版】/ぴょん吉\n恋しやコンコンあふた～【フルカラー版】/ぴょん吉\nせかんどすてっぷ/もず\nつづらおり/ベコ太郎\nコンプレックス act.2 彼女の場合。/長頼\nタイムパフォーマンスセックス/なごやか次郎\n食べちゃうぞ/しらないひとし\nオーバーライト/甘皮ぐみ\n奥さんを開発しよう! /小亀ふつ\n月が君に寄り添うとき/瑞枝いいる\nオアシススポット/タコヤキロック \n※デジタル版のみ\n◇つぎのひ【フルカラー版】/ぴょん吉
URL:https://wanimagazine.com/calendar/202405_b_0417/
CATEGORIES:電子書籍
END:VEVENT
BEGIN:VEVENT
DTSTART;VALUE=DATE:20240415
DTEND;VALUE=DATE:20240416
DTSTAMP:20260422T080545
CREATED:20240314T075015Z
LAST-MODIFIED:20240423T021625Z
UID:532-1713139200-1713225599@wanimagazine.com
SUMMARY:教え子としか付き合わない/太平さんせっと
DESCRIPTION:紙版\nお買い求めはこちらから
URL:https://wanimagazine.com/calendar/9784862699756/
CATEGORIES:紙書籍
END:VEVENT
BEGIN:VEVENT
DTSTART;VALUE=DATE:20240415
DTEND;VALUE=DATE:20240416
DTSTAMP:20260422T080545
CREATED:20240308T081659Z
LAST-MODIFIED:20240412T081156Z
UID:493-1713139200-1713225599@wanimagazine.com
SUMMARY:曲尺手さんと大縄くん ～むっつりドスケベな彼女と俺～/Ash横島
DESCRIPTION:通常版 \n【デジタル特装版】 \n 
URL:https://wanimagazine.com/calendar/20240415_ash/
CATEGORIES:電子書籍
END:VEVENT
BEGIN:VEVENT
DTSTART;VALUE=DATE:20240415
DTEND;VALUE=DATE:20240416
DTSTAMP:20260422T080545
CREATED:20240314T081240Z
LAST-MODIFIED:20240314T081418Z
UID:534-1713139200-1713225599@wanimagazine.com
SUMMARY:まねかれあそばれ/武将武
DESCRIPTION:紙版 \n詳細はこちらから
URL:https://wanimagazine.com/calendar/9784862699749/
CATEGORIES:紙書籍
END:VEVENT
BEGIN:VEVENT
DTSTART;VALUE=DATE:20240412
DTEND;VALUE=DATE:20240413
DTSTAMP:20260422T080545
CREATED:20240308T081752Z
LAST-MODIFIED:20240412T080941Z
UID:495-1712880000-1712966399@wanimagazine.com
SUMMARY:COMIC快楽天ビースト2024年5月号
DESCRIPTION:紙版https://www.wani.com/product/13835/
URL:https://wanimagazine.com/calendar/20240413_beast/
CATEGORIES:紙書籍
END:VEVENT
BEGIN:VEVENT
DTSTART;VALUE=DATE:20240411
DTEND;VALUE=DATE:20240412
DTSTAMP:20260422T080545
CREATED:20240308T070539Z
LAST-MODIFIED:20240501T022355Z
UID:491-1712793600-1712879999@wanimagazine.com
SUMMARY:COMIC ゼロス＃110
DESCRIPTION:デジタルのみ\n雑誌 \n\nすいーと＆すぱいしー/森島コン\n異世界召喚されたので鍛え上げた肉体を駆使してスケベしようと思う 第3射/あきのそら\nせのびごほうし/へぅろー\n嫁妹と、いろいろ/とく\n気持ちいコトには逆らえない #2/さ抜き\nだけどダラダラダラ/変熊\n尻で女を見分ける俺は女上司の弱みを握る/えこひいき\n7日後に愛し合う僕ら/じゅらい\n熱愛、ほどほどに/ななもと
URL:https://wanimagazine.com/calendar/20240411_xeros/
CATEGORIES:電子書籍
END:VEVENT
BEGIN:VEVENT
DTSTART;VALUE=DATE:20240408
DTEND;VALUE=DATE:20240409
DTSTAMP:20260422T080545
CREATED:20240308T070417Z
LAST-MODIFIED:20240313T035057Z
UID:489-1712534400-1712620799@wanimagazine.com
SUMMARY:パンストーリーズ/タチロク
DESCRIPTION:FANZA独占
URL:https://wanimagazine.com/calendar/20240408_tashiroku/
CATEGORIES:電子書籍
END:VEVENT
BEGIN:VEVENT
DTSTART;VALUE=DATE:20240405
DTEND;VALUE=DATE:20240406
DTSTAMP:20260422T080545
CREATED:20240308T052032Z
LAST-MODIFIED:20250815T052012Z
UID:486-1712275200-1712361599@wanimagazine.com
SUMMARY:COMIC快楽天2024年05月号
DESCRIPTION:
URL:https://wanimagazine.com/calendar/20240405_kairakuten/
CATEGORIES:電子書籍
END:VEVENT
BEGIN:VEVENT
DTSTART;VALUE=DATE:20240401
DTEND;VALUE=DATE:20240402
DTSTAMP:20260422T080545
CREATED:20240308T041603Z
LAST-MODIFIED:20240402T083300Z
UID:484-1711929600-1712015999@wanimagazine.com
SUMMARY:かわいそうなキミはかわいい/moyori
DESCRIPTION:FANZA独占
URL:https://wanimagazine.com/calendar/240401_moyori/
CATEGORIES:電子書籍
END:VEVENT
BEGIN:VEVENT
DTSTART;VALUE=DATE:20240329
DTEND;VALUE=DATE:20240330
DTSTAMP:20260422T080545
CREATED:20240305T060601Z
LAST-MODIFIED:20240325T085309Z
UID:444-1711670400-1711756799@wanimagazine.com
SUMMARY:飴色プロローグ/木瀬樹
DESCRIPTION:  \n\n\n\n紙版\n直販限定セットはこちらから\n通常版はこちらからお買い求めください。
URL:https://wanimagazine.com/calendar/978486269972/
CATEGORIES:紙書籍
END:VEVENT
BEGIN:VEVENT
DTSTART;VALUE=DATE:20240329
DTEND;VALUE=DATE:20240330
DTSTAMP:20260422T080545
CREATED:20240305T060655Z
LAST-MODIFIED:20240305T084236Z
UID:446-1711670400-1711756799@wanimagazine.com
SUMMARY:堕罪/監獄銘菓
DESCRIPTION:紙版
URL:https://wanimagazine.com/calendar/9784862699732/
CATEGORIES:紙書籍
END:VEVENT
BEGIN:VEVENT
DTSTART;VALUE=DATE:20240322
DTEND;VALUE=DATE:20240323
DTSTAMP:20260422T080545
CREATED:20240306T083115Z
LAST-MODIFIED:20240321T054827Z
UID:482-1711065600-1711151999@wanimagazine.com
SUMMARY:異世快楽天SELECTION 2024 SPRING
DESCRIPTION:ご購入はこちらから
URL:https://wanimagazine.com/calendar/isekai-2024-spring/
CATEGORIES:電子書籍
END:VEVENT
BEGIN:VEVENT
DTSTART;TZID=Asia/Tokyo:20240319T000000
DTEND;TZID=Asia/Tokyo:20240319T000000
DTSTAMP:20260422T080545
CREATED:20240314T031643Z
LAST-MODIFIED:20240319T093055Z
UID:515-1710806400-1710806400@wanimagazine.com
SUMMARY:COMIC快楽天ビースト2024年5月号
DESCRIPTION:デジタル版 ※　デジタル版は毎月17日発売です!! \nご購入はこちらから
URL:https://wanimagazine.com/calendar/b202405/
CATEGORIES:電子書籍
END:VEVENT
BEGIN:VEVENT
DTSTART;VALUE=DATE:20240317
DTEND;VALUE=DATE:20240318
DTSTAMP:20260422T080545
CREATED:20240306T081325Z
LAST-MODIFIED:20240306T082558Z
UID:468-1710633600-1710719999@wanimagazine.com
SUMMARY:COMIC快楽天ビースト04月号
DESCRIPTION:
URL:https://wanimagazine.com/calendar/240317_beast/
CATEGORIES:電子書籍
END:VEVENT
BEGIN:VEVENT
DTSTART;VALUE=DATE:20240315
DTEND;VALUE=DATE:20240316
DTSTAMP:20260422T080545
CREATED:20240305T071324Z
LAST-MODIFIED:20240305T084518Z
UID:457-1710460800-1710547199@wanimagazine.com
SUMMARY:みだれて天使/雛咲葉
DESCRIPTION:デジタル版
URL:https://wanimagazine.com/calendar/4862699596/
CATEGORIES:電子書籍
END:VEVENT
BEGIN:VEVENT
DTSTART;VALUE=DATE:20240315
DTEND;VALUE=DATE:20240316
DTSTAMP:20260422T080545
CREATED:20240305T071030Z
LAST-MODIFIED:20240305T084546Z
UID:455-1710460800-1710547199@wanimagazine.com
SUMMARY:退路なき熱【単行本版】/瀬尾日々照
DESCRIPTION:FANZA独占
URL:https://wanimagazine.com/calendar/9784862699657/
CATEGORIES:電子書籍
END:VEVENT
BEGIN:VEVENT
DTSTART;VALUE=DATE:20240315
DTEND;VALUE=DATE:20240316
DTSTAMP:20260422T080545
CREATED:20240305T020356Z
LAST-MODIFIED:20240501T023749Z
UID:421-1710460800-1710547199@wanimagazine.com
SUMMARY:貴方の専属ソープ嬢/松河
DESCRIPTION:紙版ご購入はこちらから
URL:https://wanimagazine.com/calendar/9784862699701/
CATEGORIES:紙書籍
END:VEVENT
BEGIN:VEVENT
DTSTART;VALUE=DATE:20240315
DTEND;VALUE=DATE:20240316
DTSTAMP:20260422T080545
CREATED:20240304T052742Z
LAST-MODIFIED:20240314T090930Z
UID:376-1710460800-1710547199@wanimagazine.com
SUMMARY:絶対ダメなの！/こやま滋
DESCRIPTION:紙版ご購入はこちらから
URL:https://wanimagazine.com/calendar/9784862699718/
CATEGORIES:紙書籍
END:VEVENT
BEGIN:VEVENT
DTSTART;VALUE=DATE:20240314
DTEND;VALUE=DATE:20240315
DTSTAMP:20260422T080545
CREATED:20240306T081346Z
LAST-MODIFIED:20240312T020005Z
UID:471-1710374400-1710460799@wanimagazine.com
SUMMARY:COMIC快楽天ビースト04月号
DESCRIPTION:紙版ご購入はこちらから
URL:https://wanimagazine.com/calendar/240314_beast/
CATEGORIES:紙書籍
END:VEVENT
BEGIN:VEVENT
DTSTART;VALUE=DATE:20240312
DTEND;VALUE=DATE:20240313
DTSTAMP:20260422T080545
CREATED:20240305T070920Z
LAST-MODIFIED:20240305T085016Z
UID:453-1710201600-1710287999@wanimagazine.com
SUMMARY:発情えごいずむ/まきん
DESCRIPTION:FANZA独占
URL:https://wanimagazine.com/calendar/9784862699640/
CATEGORIES:電子書籍
END:VEVENT
BEGIN:VEVENT
DTSTART;VALUE=DATE:20240311
DTEND;VALUE=DATE:20240312
DTSTAMP:20260422T080545
CREATED:20240305T070757Z
LAST-MODIFIED:20240308T090204Z
UID:451-1710115200-1710201599@wanimagazine.com
SUMMARY:COMIC ゼロス#109
DESCRIPTION:デジタル版
URL:https://wanimagazine.com/calendar/20240311_xeros/
CATEGORIES:電子書籍
END:VEVENT
BEGIN:VEVENT
DTSTART;VALUE=DATE:20240306
DTEND;VALUE=DATE:20240307
DTSTAMP:20260422T080545
CREATED:20240305T051235Z
LAST-MODIFIED:20240306T082427Z
UID:442-1709683200-1709769599@wanimagazine.com
SUMMARY:性春/柴犬五郎
DESCRIPTION:デジタル版
URL:https://wanimagazine.com/calendar/4862699602/
CATEGORIES:電子書籍
END:VEVENT
BEGIN:VEVENT
DTSTART;VALUE=DATE:20240306
DTEND;VALUE=DATE:20240307
DTSTAMP:20260422T080545
CREATED:20240305T050957Z
LAST-MODIFIED:20240305T085119Z
UID:440-1709683200-1709769599@wanimagazine.com
SUMMARY:らぶ・おぷしょん/かづき
DESCRIPTION:デジタル版
URL:https://wanimagazine.com/calendar/4862699633/
CATEGORIES:電子書籍
END:VEVENT
BEGIN:VEVENT
DTSTART;VALUE=DATE:20240305
DTEND;VALUE=DATE:20240306
DTSTAMP:20260422T080545
CREATED:20240305T030307Z
LAST-MODIFIED:20240305T083633Z
UID:427-1709596800-1709683199@wanimagazine.com
SUMMARY:COMIC快楽天 2024年04月号
DESCRIPTION:デジタル版
URL:https://wanimagazine.com/calendar/20240305_kairakuten/
CATEGORIES:電子書籍
END:VEVENT
END:VCALENDAR